BEGIN:VCALENDAR
VERSION:2.0
PRODID:-//Ferme d&#039;Argentin - ECPv5.14.1//NONSGML v1.0//EN
CALSCALE:GREGORIAN
METHOD:PUBLISH
X-WR-CALNAME:Ferme d&#039;Argentin
X-ORIGINAL-URL:https://ferme-argentin.com
X-WR-CALDESC:Events for Ferme d&#039;Argentin
REFRESH-INTERVAL;VALUE=DURATION:PT1H
X-Robots-Tag:noindex
X-PUBLISHED-TTL:PT1H
BEGIN:VTIMEZONE
TZID:UTC
BEGIN:STANDARD
TZOFFSETFROM:+0000
TZOFFSETTO:+0000
TZNAME:UTC
DTSTART:20260101T000000
END:STANDARD
END:VTIMEZONE
BEGIN:VEVENT
DTSTART;TZID=UTC:20260304T100000
DTEND;TZID=UTC:20260410T180000
DTSTAMP:20260419T154247
CREATED:20260106T165557Z
LAST-MODIFIED:20260413T095415Z
UID:4293-1772618400-1775844000@ferme-argentin.com
SUMMARY:Programme des animations : Les animaux de Pâques
DESCRIPTION:A partir du 4 mars\, découvrez les animaux qui ont un lien fort avec les traditions de Pâques et le printemps. Avec un peu de chance\, vous percerez le mystère du lapin qui pond des œufs… en chocolat. \nEn mars\, la Ferme d’Argentin est ouverte les mercredis\, samedis ainsi que les dimanches de 10h à 16h30.\nEn avril\, la Ferme d’Argentin est ouverte tous les jours de 10h à 18h. \nProgramme des animations quotidiennes\n11h : La baby-ferme\nRetrouvez-vous en famille autour de petits jeux ayant pour thématique les animaux et destinés aux enfants jusqu’à 4 ans. \n  \n13h30 (en mars)/14h (en avril) : La poule\nLa poule est présente depuis des siècles dans les fermes européennes. Mais la connaissez-vous vraiment ? \n  \n14h15 (en mars)/14h45 (en avril) : Le lapin\nAccompagnez un scientifique à la découverte de ce curieux petit mammifère. \n  \n15h (en mars)/15h30 (en avril) : Qui pond des œufs ?\nQui pond des œufs et qui n’en pond pas ? Facile ! Direz-vous ! En êtes-vous vraiment certain ? \n  \n15h30 (en mars)/16h15 (en avril) : Le mouton\nLe mouton\, tout le monde l’imagine tout blanc et portant de la laine. \nCela n’a pas toujours été le cas. Laissez-vous surprendre par ce curieux animal qui nous fournit des pulls bien chauds pour l’hiver. \n  \n16h (en mars)/17h15 (en avril) : Le conte\nEn famille\, suivez les péripéties et les aventures des animaux de la ferme à travers différents contes et supports pour raconter les histoires.
URL:https://ferme-argentin.com/event/programme-des-animations-les-animaux-de-paques/
CATEGORIES:Evenement passé
ATTACH;FMTTYPE=image/jpeg:https://ferme-argentin.com/wp-content/uploads/2024/11/IMG_7314-scaled.jpg
END:VEVENT
BEGIN:VEVENT
DTSTART;VALUE=DATE:20260403
DTEND;VALUE=DATE:20260407
DTSTAMP:20260419T154247
CREATED:20260106T173938Z
LAST-MODIFIED:20260407T152504Z
UID:4299-1775174400-1775519999@ferme-argentin.com
SUMMARY:Événement : Grande chasse aux œufs
DESCRIPTION:Une chasse aux œufs à votre rythme\nDu vendredi 3 au lundi 6 avril\, participez à la grande chasse aux œufs à la Ferme d’Argentin ! \nEn famille\, partez à la chasse aux œufs\, à votre rythme\, sans bousculades\, sans faire la course. \n  \nLe principe ?\nTrouvez 7 œufs de couleur différente répartis sur le parcours historique. Cherchez un œuf rose dans les herbes hautes du Paléolithique\, puis un œuf jaune près des céréales du Néolithique et ainsi de suite\, jusqu’à obtenir vos 7 œufs que vous échangerez contre un chocolat. \n  \nDes animaux à observer\nTout au long du parcours\, vous passerez près des enclos des animaux ou bien à la mini-ferme pour faire un câlin aux chèvres naines. \n  \nNouveauté : Sauvez le lapin de Pâques ! \nUn être maléfique vient de s’en prendre aux pouvoirs du lapin de Pâques. Si rien n’est fait pour le sauver\, il disparaîtra à tout jamais et avec lui\, les œufs colorés\, les chocolats et la joie qui illumine les yeux des enfants… \nCette mission s’adresse aux plus grands : résolvez les énigmes pour tenter de sauver le lapin. Ceux qui parviendront au bout des épreuves pourront participer à un tirage au sort pour remporter de beaux cadeaux\, dont un séjour à la Ferme d’Argentin ! \nIl s’agit d’un jeu de piste basé sur des énigmes de type escape-game à destination des adultes et adolescents. \nPensez à vous munir d’un stylo !  \n\nInformations pratiques \nDurant le week-end de Pâques\, la Ferme sera ouverte de 10h à 18h. \nSans réservation\, les conditions tarifaires habituelles s’appliquent.
URL:https://ferme-argentin.com/event/grande-chasse-aux-oeufs-4/
LOCATION:La Ferme d’Argentin
CATEGORIES:Evenement passé
ATTACH;FMTTYPE=image/jpeg:https://ferme-argentin.com/wp-content/uploads/2024/12/IMG_4591-scaled.jpg
ORGANIZER;CN="Ferme%20d%27Argentin":MAILTO:info@ferme-argentin.com
END:VEVENT
END:VCALENDAR