BEGIN:VCALENDAR
VERSION:2.0
PRODID:-//Ferme d&#039;Argentin - ECPv5.14.1//NONSGML v1.0//EN
CALSCALE:GREGORIAN
METHOD:PUBLISH
X-WR-CALNAME:Ferme d&#039;Argentin
X-ORIGINAL-URL:https://ferme-argentin.com
X-WR-CALDESC:Events for Ferme d&#039;Argentin
REFRESH-INTERVAL;VALUE=DURATION:PT1H
X-Robots-Tag:noindex
X-PUBLISHED-TTL:PT1H
BEGIN:VTIMEZONE
TZID:UTC
BEGIN:STANDARD
TZOFFSETFROM:+0000
TZOFFSETTO:+0000
TZNAME:UTC
DTSTART:20260101T000000
END:STANDARD
END:VTIMEZONE
BEGIN:VEVENT
DTSTART;TZID=UTC:20261104T100000
DTEND;TZID=UTC:20261130T170000
DTSTAMP:20260423T183026
CREATED:20260109T101542Z
LAST-MODIFIED:20260109T101714Z
UID:4730-1793786400-1796058000@ferme-argentin.com
SUMMARY:Programme d'animation : Les animaux et leurs ancêtres
DESCRIPTION:Au cours de cette période\, nous allons nous intéresser aux ancêtres des animaux de la Ferme. Qui sont-ils ? D’où viennent-ils ? Nous en profiterons pour remonter jusqu’à la Préhistoire pour essayer de peindre en utilisant des techniques inspirées par les fresques d’animaux retrouvées dans les grottes. \nAu mois de novembre\, nous sommes ouverts les mercredis\, samedis et dimanches de 10h à 17h. \nProgramme des animations quotidiennes\n11h : La Baby-ferme\nRetrouvez-vous en famille autour de petits jeux ayant pour thématique les animaux et destinés aux enfants jusqu’à 4 ans. \n  \n13h30 : L’animal du jour\nLe mouton a-t-il toujours eu de la laine sur son dos ? Comment le poussin se développe-t-il à l’intérieur de l’œuf ? Qu’est-ce qu’un cochon laineux ? Le cheval a-t-il toujours été grand et fort ? Depuis quand retrouve-t-on des vaches dans les fermes ?\nQu’est-ce qu’une chèvre de Lorraine ?\nDécouvrez chaque jour un autre animal de la ferme : ses particularités\, son lien avec l’histoire de l‘agriculture… \n  \n14h15 : Ancêtres poilus et crocs pointus\nQui sont les ancêtres de nos animaux domestiques ? D’où viennent-ils ? Existent-ils encore ? \nAh\, d’ailleurs\, les ancêtres des poules avaient des dents bien pointues ! Êtes-vous prêts pour le voyage dans le temps ? \n  \n15h : Tagueurs de la Préhistoire\nLes chasseurs-cueilleurs de la Préhistoire nous ont laissé des représentations de nombreux animaux dans des grottes. Exercez-vous à peindre votre animal en vous inspirant des œuvres venues du fond des temps. \n\n16h : Le conte\nEn famille\, suivez les péripéties et les aventures des animaux de la ferme à travers différents contes et supports pour raconter les histoires.
URL:https://ferme-argentin.com/event/programme-danimation-sorcieres-et-bottes-de-paille-2/
CATEGORIES:Evenements en cours
ATTACH;FMTTYPE=image/jpeg:https://ferme-argentin.com/wp-content/uploads/2026/01/4.1-PEINTURE-PALEO-scaled.jpg
END:VEVENT
BEGIN:VEVENT
DTSTART;TZID=UTC:20261129T100000
DTEND;TZID=UTC:20261129T160000
DTSTAMP:20260423T183026
CREATED:20260109T110659Z
LAST-MODIFIED:20260109T111526Z
UID:4349-1795946400-1795968000@ferme-argentin.com
SUMMARY:Fabriquez votre couronne de l'Avent (2h)
DESCRIPTION:Pour attendre Noël\nConnaissez-vous la couronne de l’Avent ? Il s’agit d’une couronne portant 4 bougies. Il est de tradition\, en Alsace notamment\, de l’allumer les 4 dimanches précédent Noël. Le premier dimanche\, la première bougie est allumée\, le dimanche suivant\, la première est rallumée avec une seconde et ainsi de suite jusqu’à ce que les 4 bougies scintillent pour annoncer la fête de Noël. C’est un peu un calendrier de l’Avent avant l’heure. Chaque famille fabriquait sa couronne pour patienter jusqu’au jour-J. \n  \nDu sapin\, des baies\, un peu de raphia\nDécouvrez une technique de fabrication de couronne sans support. Créez une belle couronne de l’Avent en famille\, à l’aide de sapin. Décorez-là à votre goût à l’aide de pommes de pin et d’autres éléments glanés dans la nature\, ainsi que de raphia. \n  \nInformations pratiques :\n\nSur réservation uniquement. \nDe 10h à 12h ou de 14h à 16h. \nAdultes et enfants à partir de 8 ans. Les enfants doivent obligatoirement être accompagnés par un adulte participant à l’atelier. \nTarifs : adultes 15€\, enfants de 8 à 15 ans 12 € et abonnés 10€. \nRenseignements au 03 89 22 19 19 ou par mail info@ferme-argentin.com \nEn plus de votre atelier\, vous pourrez en profiterez pour visiter notre site\, et participer aux animations grand public proposées tout au long de la journée. \n  \nRéservations :\nDimanche 29 novembre de 10h à 12h :\n \nDimanche 29 novembre de 14h à 16h :
URL:https://ferme-argentin.com/event/fabriquez-votre-couronne-de-lavent-2h/
LOCATION:La Ferme d’Argentin
CATEGORIES:Evenements en cours
ATTACH;FMTTYPE=image/jpeg:https://ferme-argentin.com/wp-content/uploads/2024/08/IMG_3126-scaled.jpg
ORGANIZER;CN="Ferme%20d%27Argentin":MAILTO:info@ferme-argentin.com
END:VEVENT
END:VCALENDAR