BEGIN:VCALENDAR
VERSION:2.0
PRODID:-//Ferme d&#039;Argentin - ECPv5.14.1//NONSGML v1.0//EN
CALSCALE:GREGORIAN
METHOD:PUBLISH
X-WR-CALNAME:Ferme d&#039;Argentin
X-ORIGINAL-URL:https://ferme-argentin.com
X-WR-CALDESC:Events for Ferme d&#039;Argentin
REFRESH-INTERVAL;VALUE=DURATION:PT1H
X-Robots-Tag:noindex
X-PUBLISHED-TTL:PT1H
BEGIN:VTIMEZONE
TZID:UTC
BEGIN:STANDARD
TZOFFSETFROM:+0000
TZOFFSETTO:+0000
TZNAME:UTC
DTSTART:20260101T000000
END:STANDARD
END:VTIMEZONE
BEGIN:VEVENT
DTSTART;TZID=UTC:20260426T100000
DTEND;TZID=UTC:20260426T120000
DTSTAMP:20260422T154803
CREATED:20260107T110411Z
LAST-MODIFIED:20260407T152752Z
UID:4308-1777197600-1777204800@ferme-argentin.com
SUMMARY:Atelier - Cuisiner avec la nature
DESCRIPTION:Comment intégrer un peu de cette nature exubérante dans la cuisine du quotidien ?\nDe nombreuses plantes sauvages\, considérées comme des “mauvaises herbes” ou comme du fourrage pour les animaux\, sont comestibles. Certaines d’entre elles étaient d’ailleurs consommées par nos ancêtres. Les animateurs de la Ferme d’Argentin vous proposent de les intégrer dans des recettes simples à reproduire chez soi. \nCueillez\, cuisinez et dégustez\nPartez à la découverte de quelques plantes faciles à identifier avec les animateurs\, en vous promenant sur le site. Cueillez les plantes nécessaires à la réalisation des recettes. Vous réaliserez ensuite les recettes en groupe\, avant de passer à la dégustation. \nInformations pratiques\nSur réservation uniquement.\nRenseignements au 03 89 22 19 19 ou par mail info@ferme-argentin.com.\nNombre de places limité. \nAtelier accessible aux enfants à partir de 10 ans.\nLes enfants doivent obligatoirement être accompagnés par un adulte participant à l’atelier. \n  \nTarifs avec entrée incluse :\nAdulte : 15€\nEnfant : 12€\nAbonné : 7€ \nEn plus de votre atelier\, vous pourrez en profiterez pour visiter notre site\, et participer aux animations grand public proposées tout au long de la journée. \nRéservations :
URL:https://ferme-argentin.com/event/cuisiner-avec-la-nature-5/
LOCATION:La Ferme d’Argentin
CATEGORIES:Coup de coeur,Evenements en cours
ATTACH;FMTTYPE=image/jpeg:https://ferme-argentin.com/wp-content/uploads/2025/01/IMG_5729-scaled.jpg
ORGANIZER;CN="Ferme%20d%27Argentin":MAILTO:info@ferme-argentin.com
END:VEVENT
END:VCALENDAR