BEGIN:VCALENDAR
VERSION:2.0
PRODID:-//Ferme d&#039;Argentin - ECPv5.14.1//NONSGML v1.0//EN
CALSCALE:GREGORIAN
METHOD:PUBLISH
X-WR-CALNAME:Ferme d&#039;Argentin
X-ORIGINAL-URL:https://ferme-argentin.com
X-WR-CALDESC:Events for Ferme d&#039;Argentin
REFRESH-INTERVAL;VALUE=DURATION:PT1H
X-Robots-Tag:noindex
X-PUBLISHED-TTL:PT1H
BEGIN:VTIMEZONE
TZID:UTC
BEGIN:STANDARD
TZOFFSETFROM:+0000
TZOFFSETTO:+0000
TZNAME:UTC
DTSTART:20260101T000000
END:STANDARD
END:VTIMEZONE
BEGIN:VEVENT
DTSTART;TZID=UTC:20261202T100000
DTEND;TZID=UTC:20270103T163000
DTSTAMP:20260423T113350
CREATED:20260109T112749Z
LAST-MODIFIED:20260109T112749Z
UID:4752-1796205600-1798993800@ferme-argentin.com
SUMMARY:Programme d'animation : La Ferme enchantée
DESCRIPTION:Pour la fin de l’année\, nous allons nous intéresser au monde du merveilleux et des légendes en lien avec les animaux et la ferme. Découvrez également les jouets à travers l’histoire et tentez d’en fabriquer un avec des matériaux naturels. \nAu mois de décembre\, nous sommes ouverts les mercredis\, samedis et dimanches de 10h à 16h30\, puis tous les jours pendant les vacances scolaires (sauf 25/12 et 01/01). \nProgramme des animations quotidiennes\n11h : La Baby-ferme\nRetrouvez-vous en famille autour de petits jeux ayant pour thématique les animaux et destinés aux enfants jusqu’à 4 ans. \n  \n13h30 : L’animal du jour\nLe mouton a-t-il toujours eu de la laine sur son dos ? Comment le poussin se développe-t-il à l’intérieur de l’œuf ? Qu’est-ce qu’un cochon laineux ? Le cheval a-t-il toujours été grand et fort ? Depuis quand retrouve-t-on des vaches dans les fermes ?\nQu’est-ce qu’une chèvre de Lorraine ?\nDécouvrez chaque jour un autre animal de la ferme : ses particularités\, son lien avec l’histoire de l‘agriculture… \n  \n14h15 : Légendes de la basse-cour\n  \n  \n15h : Jeux et jouets enchantés\n  \n\n15h45 : Le conte\nEn famille\, suivez les péripéties et les aventures des animaux de la ferme à travers différents contes et supports pour raconter les histoires.
URL:https://ferme-argentin.com/event/programme-danimation-la-ferme-enchantee/
CATEGORIES:Evenements en cours
ATTACH;FMTTYPE=image/jpeg:https://ferme-argentin.com/wp-content/uploads/2022/02/DSC_0001_00001-Copier.jpg
END:VEVENT
BEGIN:VEVENT
DTSTART;TZID=UTC:20261216T100000
DTEND;TZID=UTC:20261216T120000
DTSTAMP:20260423T113350
CREATED:20260109T113526Z
LAST-MODIFIED:20260109T113526Z
UID:4351-1797415200-1797422400@ferme-argentin.com
SUMMARY:Atelier familles - Fabriquez vos Bredele
DESCRIPTION:Une tradition alsacienne\nPour Noël\, les familles alsaciennes ont l’habitude de réaliser de petits gâteaux nommés Bredele. Ils sont en forme d’étoile\, de cœur\, de lune\, contiennent parfois des fruits secs et sentent bon les épices : cannelle\, anis… \nIls sont dégustés à toute occasion\, avec un gobelet de chocolat chaud\, de jus de pomme chaud ou encore de vin chaud. \n  \nRéalisez des Bredele en famille\nLes animateurs vous proposent de réaliser quelques recettes de Bredele pour vous initier à cette tradition. Vous repartirez avec des recettes\, non sans avoir goûté quelques Bredele fraichement sortis du four. \n  \nInformations pratiques :\nSur réservation uniquement \nA partir de 3 ans. Les enfants doivent être accompagnés par un adulte participant à l’atelier. \nRenseignement au 03 89 22 19 19 ou par mail info@ferme-argentin.com \nTarifs :\n15€ pour les adultes\n12€ pour les enfants de 8 à 15 ans\n7€ pour les abonnés. \n  \nRéservation :
URL:https://ferme-argentin.com/event/atelier-familles-fabriquez-vos-bredele/
LOCATION:La Ferme d’Argentin
CATEGORIES:Evenements en cours
ATTACH;FMTTYPE=image/jpeg:https://ferme-argentin.com/wp-content/uploads/2023/10/IMG_0749-scaled.jpg
ORGANIZER;CN="Ferme%20d%27Argentin":MAILTO:info@ferme-argentin.com
END:VEVENT
BEGIN:VEVENT
DTSTART;TZID=UTC:20261219T133000
DTEND;TZID=UTC:20261220T163000
DTSTAMP:20260423T113350
CREATED:20260109T133404Z
LAST-MODIFIED:20260127T173319Z
UID:4759-1797687000-1797784200@ferme-argentin.com
SUMMARY:Événement - Le chemin des contes
DESCRIPTION:Le tour du monde en contes\nQuand les lumières d’hiver commencent à embraser les chemins de la Ferme d’Argentin\, une magie douce s’installe. Laissez-vous emporter par une balade contée de Noël\, d’abri en abri\, pour faire un tour du monde en histoires.\nA chaque abri\, les conteurs vous invitent à écouter des récits peuplés d’animaux\, de créatures bienveillantes et de rencontres inattendues. Les aventures de ces êtres\, parfois surgis du fond des temps\, font rêver\, rire et s’émouvoir. Même s’ils ne sont pas forcément humains\, ils nous rappellent que la fraternité\, la générosité et la joie du partage sont les plus beaux cadeaux que l’on puisse s’offrir\, que ce soit ici ou ailleurs sur Terre.\n\nUne balade contée en toute liberté\nLes conteurs sont à place de 14h à 16h pour conter une histoire toutes les 30 minutes. Déplacez-vous d’abri en abri pour faire le tour des 5 continents en histoires. Pour être certain d’entendre toutes les histoires\, il est conseillé de démarrer son parcours avant 14h30. Si vous venez plus tard\, vous pouvez toujours choisir de suivre une partie des histoires. L’enclos des chèvres naines reste accessible et il vous sera possible de parcourir le site à la découverte des animaux.\nDurant ces 2 journées\, le programme d’animations quotidiennes est remplacé par les contes.\n\nInformations pratiques\nRendez-vous samedi 20 et dimanche 21 décembre\, de 13h30 à 16h30 à la Ferme d’Argentin.\nLes conditions tarifaires habituelles s’appliquent\, sans réservation.\nAttention\, pour entendre tous les récits\, nous vous conseillons de démarrer votre parcours avant 14h30 !\nTout public.
URL:https://ferme-argentin.com/event/evenement-le-chemin-des-contes/
CATEGORIES:Evenements en cours
ATTACH;FMTTYPE=image/jpeg:https://ferme-argentin.com/wp-content/uploads/2025/10/IMG_3913-scaled.jpg
END:VEVENT
BEGIN:VEVENT
DTSTART;TZID=UTC:20261220T100000
DTEND;TZID=UTC:20261220T120000
DTSTAMP:20260423T113350
CREATED:20260109T132435Z
LAST-MODIFIED:20260109T132911Z
UID:4757-1797760800-1797768000@ferme-argentin.com
SUMMARY:Atelier familles - Fabriquez vos décorations de Noël
DESCRIPTION:Des étoiles\, des bougeoirs\, des mobiles\nPour préparer Noël\, la Ferme d’Argentin vous propose de jolies décorations pour votre maison\, pour votre sapin ou bien encore pour votre table de fête. Que ce soient des étoiles\, des bougeoirs\, des suspensions\, tout est permis pour préparer vos fêtes de fin d’année ! \n  \nDes branches\, des pommes de pin\, du papier\, du carton…\nDurant cette matinée de bricolages\, vous manipulerez tous types de matériaux qu’ils soient glanés dans la nature ou qu’il s’agisse de récupération\, pour fabriquer différents objets décoratifs en famille\, avec vos enfants ou petits enfants. Il y en a pour tous les goûts ! \n  \nInformations pratiques\nAtelier sur réservation. \nInformations complémentaires 03 89 22 19 19 ou info@ferme-argentin.com \nL’entrée à la Ferme d’Argentin est incluse dans le tarif. \nA partir de 6 ans. Les enfants doivent obligatoirement être accompagnés par un adulte participant à l’activité. \nTarifs :\n15€ pour les adultes\n12€ pour les enfants de 6 à 15 ans\n7€ pour les abonnés. \nEn plus de votre atelier\, vous pourrez en profiter pour visiter notre site\, et participer aux animations grand public proposées tout au long de la journée. \nRéservations :
URL:https://ferme-argentin.com/event/atelier-familles-fabriquez-vos-decorations-de-noel/
LOCATION:La Ferme d’Argentin
CATEGORIES:Evenements en cours
ATTACH;FMTTYPE=image/jpeg:https://ferme-argentin.com/wp-content/uploads/2022/10/Decorations-Noel-nature.jpg
ORGANIZER;CN="Ferme%20d%27Argentin":MAILTO:info@ferme-argentin.com
END:VEVENT
BEGIN:VEVENT
DTSTART;TZID=UTC:20261222T100000
DTEND;TZID=UTC:20261222T120000
DTSTAMP:20260423T113350
CREATED:20260109T113947Z
LAST-MODIFIED:20260109T114022Z
UID:4353-1797933600-1797940800@ferme-argentin.com
SUMMARY:Atelier familles - Fabriquez vos Bredele
DESCRIPTION:Une tradition alsacienne\nPour Noël\, les familles alsaciennes ont l’habitude de réaliser de petits gâteaux nommés Bredele. Ils sont en forme d’étoile\, de cœur\, de lune\, contiennent parfois des fruits secs et sentent bon les épices : cannelle\, anis… \nIls sont dégustés à toute occasion\, avec un gobelet de chocolat chaud\, de jus de pomme chaud ou encore de vin chaud. \n  \nRéalisez des Bredele en famille\nLes animateurs vous proposent de réaliser quelques recettes de Bredele pour vous initier à cette tradition. Vous repartirez avec des recettes\, non sans avoir goûté quelques Bredele fraichement sortis du four. \n  \nInformations pratiques :\nSur réservation uniquement \nA partir de 3 ans. Les enfants doivent être accompagnés par un adulte participant à l’atelier. \nRenseignement au 03 89 22 19 19 ou par mail info@ferme-argentin.com \n  \nRéservations :
URL:https://ferme-argentin.com/event/realisez-vos-bredele-7/
LOCATION:La Ferme d’Argentin
CATEGORIES:Evenements en cours
ATTACH;FMTTYPE=image/jpeg:https://ferme-argentin.com/wp-content/uploads/2023/10/IMG_0749-scaled.jpg
ORGANIZER;CN="Ferme%20d%27Argentin":MAILTO:info@ferme-argentin.com
END:VEVENT
END:VCALENDAR