BEGIN:VCALENDAR
VERSION:2.0
PRODID:-//Ferme d&#039;Argentin - ECPv5.14.1//NONSGML v1.0//EN
CALSCALE:GREGORIAN
METHOD:PUBLISH
X-WR-CALNAME:Ferme d&#039;Argentin
X-ORIGINAL-URL:https://ferme-argentin.com
X-WR-CALDESC:Events for Ferme d&#039;Argentin
REFRESH-INTERVAL;VALUE=DURATION:PT1H
X-Robots-Tag:noindex
X-PUBLISHED-TTL:PT1H
BEGIN:VTIMEZONE
TZID:UTC
BEGIN:STANDARD
TZOFFSETFROM:+0000
TZOFFSETTO:+0000
TZNAME:UTC
DTSTART:20260101T000000
END:STANDARD
END:VTIMEZONE
BEGIN:VEVENT
DTSTART;TZID=UTC:20260427T100000
DTEND;TZID=UTC:20260703T183000
DTSTAMP:20260423T113610
CREATED:20260107T112706Z
LAST-MODIFIED:20260107T143836Z
UID:4301-1777284000-1783103400@ferme-argentin.com
SUMMARY:Programme d'animation : L'agriculture d'antan
DESCRIPTION:La Ferme d’Argentin vous propose un voyage dans le temps à la découverte de l’agriculture au fil de notre histoire\, entre le Néolithique au temps des premiers agriculteurs\, jusqu’au Moyen Âge à la découverte du jardin monastique. \nDu 27 avril au 31 mai \, la Ferme d’Argentin est ouverte tous les jours de 10h à 18h.\nDu 1er juin au 3 juillet\, la Ferme d’Argentin est ouverte tous les jours de 10h à 18h30. \n  \nProgramme des animations quotidiennes\n11h : La Baby-ferme\nRetrouvez-vous en famille autour de petits jeux ayant pour thématique les animaux et destinés aux enfants jusqu’à 4 ans. \n14h : L’animal du jour (vache\, âne et cheval)\nDécouvrez chaque jour un animal différent. \n14h45 (avril/mai) -15h (juin/juillet) : Voyage dans le jardin médiéval\nDécouvrez les secrets du jardin monastique médiéval. \n15h30 (avril/mai) -16h (juin/juillet) : Les secrets des premières moissons\nQuelles sont les premières plantes qui ont été cultivées en Europe au tout début de l’agriculture ? \n16h15 (avril/mai) -17h (juin/juillet) : Histoire d’un verger\nExplorez le verger et découvrez ses particularités. \n17h15 (avril/mai) -17h45 (juin/juillet) : Le conte\nEn famille\, suivez les péripéties et les aventures des animaux de la ferme à travers différents contes et supports pour raconter les histoires.
URL:https://ferme-argentin.com/event/programme-danimation-lagriculture-dantan/
CATEGORIES:Evenements en cours
ATTACH;FMTTYPE=image/jpeg:https://ferme-argentin.com/wp-content/uploads/2024/03/IMG_2244-scaled.jpg
END:VEVENT
BEGIN:VEVENT
DTSTART;TZID=UTC:20260614T100000
DTEND;TZID=UTC:20260614T120000
DTSTAMP:20260423T113610
CREATED:20260107T152319Z
LAST-MODIFIED:20260324T151643Z
UID:4674-1781431200-1781438400@ferme-argentin.com
SUMMARY:Atelier - Hôtels à insectes
DESCRIPTION:Pourquoi aider les insectes ?\nDans un premier temps\, découvrez les rôles que jouent les insectes dans la nature\, pour notre jardin. Ils sont si petits et pourtant indispensables ! \nChaque insecte possède des besoins différents en matière d’hébergement. Les matières et l’emplacement sont importants pour offrir un bon gîte à nos petits amis. \n  \nFabriquez votre premier hôtel à insecte\nUtilisez des matériaux de récupération et des éléments glanés dans la nature pour fabriquer votre premier hôtel que vous pourrez ensuite installer chez vous ! \n  \nInformations pratiques :\nSur réservation uniquement.\nRenseignements au 03 89 22 19 19 ou par mail info@ferme-argentin.com.\nNombre de places limité. \nAtelier accessible aux enfants à partir de 8 ans.\nLes enfants doivent obligatoirement être accompagnés par un adulte participant à l’atelier. \n  \nTarifs :\n\nAdultes : 15€\nEnfants : 12€\nAbonnés : 7€\n\nEn plus de votre atelier\, vous pourrez en profiterez pour visiter notre site\, et participer aux animations grand public proposées tout au long de la journée. \n\nRéservations :
URL:https://ferme-argentin.com/event/atelier-hotels-a-insectes/
CATEGORIES:Evenements en cours
ATTACH;FMTTYPE=image/jpeg:https://ferme-argentin.com/wp-content/uploads/2026/01/insect-hotel-4968205-scaled.jpg
END:VEVENT
BEGIN:VEVENT
DTSTART;TZID=UTC:20260621T100000
DTEND;TZID=UTC:20260621T120000
DTSTAMP:20260423T113610
CREATED:20260108T150644Z
LAST-MODIFIED:20260206T110503Z
UID:4669-1782036000-1782043200@ferme-argentin.com
SUMMARY:Atelier - Fabrication d'un baume végétal
DESCRIPTION:Apprenez à identifier les plantes sauvages\nParcourez le site de la Ferme d’Argentin afin d’identifier plusieurs variétés de plantes sauvages. \nDécouvrez les bienfaits de ces dernières. \nFabriquez votre baume\nCueillez des plantes sauvages que vous aurez identifié et fabriquez votre baume à partir d’une recette simple. \n  \nInformations pratiques\nSur réservation uniquement.\nRenseignements au 03 89 22 19 19 ou par mail info@ferme-argentin.com.\nNombre de places limité. \nAtelier accessible aux enfants à partir de 8 ans.\nLes enfants doivent obligatoirement être accompagnés par un adulte participant à l’atelier. \n  \nTarifs avec entrée incluse :\nAdultes : 15€\nEnfants de 8 à 15 ans : 12€\nAtelier seul pour les abonnés : 7€ \nEn plus de votre atelier\, vous pourrez en profiterez pour visiter notre site\, et participer aux animations grand public proposées tout au long de la journée. \nRéservations :
URL:https://ferme-argentin.com/event/atelier-fabrication-dun-baume-vegetal/
CATEGORIES:Evenements en cours
ATTACH;FMTTYPE=image/jpeg:https://ferme-argentin.com/wp-content/uploads/2025/01/IMG_5777-scaled.jpg
END:VEVENT
END:VCALENDAR