BEGIN:VCALENDAR
VERSION:2.0
PRODID:-//Ferme d&#039;Argentin - ECPv5.14.1//NONSGML v1.0//EN
CALSCALE:GREGORIAN
METHOD:PUBLISH
X-WR-CALNAME:Ferme d&#039;Argentin
X-ORIGINAL-URL:https://ferme-argentin.com
X-WR-CALDESC:Events for Ferme d&#039;Argentin
REFRESH-INTERVAL;VALUE=DURATION:PT1H
X-Robots-Tag:noindex
X-PUBLISHED-TTL:PT1H
BEGIN:VTIMEZONE
TZID:UTC
BEGIN:STANDARD
TZOFFSETFROM:+0000
TZOFFSETTO:+0000
TZNAME:UTC
DTSTART:20260101T000000
END:STANDARD
END:VTIMEZONE
BEGIN:VEVENT
DTSTART;TZID=UTC:20260901T100000
DTEND;TZID=UTC:20261016T180000
DTSTAMP:20260423T165609
CREATED:20260108T162359Z
LAST-MODIFIED:20260108T162359Z
UID:4438-1788256800-1792173600@ferme-argentin.com
SUMMARY:Programme d'animation : De la paille à la brique
DESCRIPTION:Les moissons sont terminées. Que peut-on faire avec de la paille ? L’utiliser comme litière pour les animaux ou même l’utiliser comme matériel de construction pour réaliser des abris. La Ferme d’Argent vous propose de mettre la main à la pâte pour réaliser du torchis et de partir à la découverte des habitats à travers l’histoire\, qu’ils soient destinés aux humains ou aux animaux. \nPendant le mois de septembre\, la Ferme d’Argentin est ouverte tous les jours de 10h à 18h. \nAu mois d’octobre\, nous sommes ouverts tous les jours de 10h à 17h30. \nProgramme des animations quotidiennes\n11h : La Baby-ferme\nRetrouvez-vous en famille autour de petits jeux ayant pour thématique les animaux et destinés aux enfants jusqu’à 4 ans. \n  \n14h : L’animal du jour\nLe mouton a-t-il toujours eu de la laine sur son dos ? Comment le poussin se développe-t-il à l’intérieur de l’œuf ? Qu’est-ce qu’un cochon laineux ? Le cheval a-t-il toujours été grand et fort ? Depuis quand retrouve-t-on des vaches dans les fermes ?\nQu’est-ce qu’une chèvre de Lorraine ?\nDécouvrez chaque jour un autre animal de la ferme : ses particularités\, son lien avec l’histoire de l‘agriculture… \n  \n14h45 : Les secrets du torchis\nDepuis toujours\, l’humain cherche à s’abriter pour se protéger du froid\, des animaux sauvages. Comment peut-il construire sa maison avec des éléments qu’il trouve dans la nature ? \nDécouvrez une technique de construction utilisée depuis la préhistoire : le torchis. Mettez la main à la pâte et participez à la création d’un pan de mur. \n  \n15h30 : Sous la terre\, l’Histoire\nMunis de pelles\, balayettes et truelles\, les fouilleurs d’un jour partent à la recherche des traces du passé enfouis sous le sable. Une fois les vestiges dégagés\, il s’agit de les observer et de les analyser. \n  \n16h15 : De l’étable au clapier\nQuels sont les abris de nos animaux domestiques ? A quels besoins correspondent-ils ? \n17h15 : Le conte\nEn famille\, suivez les péripéties et les aventures des animaux de la ferme à travers différents contes et supports pour raconter les histoires.
URL:https://ferme-argentin.com/event/programme-danimation-de-la-paille-a-la-brique/
CATEGORIES:Evenements en cours
ATTACH;FMTTYPE=image/jpeg:https://ferme-argentin.com/wp-content/uploads/2026/01/3.2-TORCHIS-scaled.jpg
END:VEVENT
BEGIN:VEVENT
DTSTART;TZID=UTC:20261002T183000
DTEND;TZID=UTC:20261003T210000
DTSTAMP:20260423T165609
CREATED:20260108T162924Z
LAST-MODIFIED:20260206T142547Z
UID:4328-1790965800-1791061200@ferme-argentin.com
SUMMARY:Événement - A l'écoute du brame du cerf
DESCRIPTION:En collaboration avec l’association du Festival de la photographie en Val d’Argent.\nPassez un moment magique au cœur de la nature\nL’automne\, saison des amours du cerf\nFin septembre marque le début de la période des amours du cerf. Le brame résonne dans la vallée\, parfois nimbée de brume à la tombée de la nuit au au petit matin. Le son grave et rauque est repris par d’autres cerfs et s’amplifie. \nAssistez à ce moment magique au sein de la Ferme d’Argentin. Installez-vous\, écoutez. Peut-être les entendrez-vous ? Peut-être apercevrez-vous les silhouettes se dessiner dans la demi-obscurité ? \nLes animateurs en profiteront pour vous donner des informations sur ce magnifique animal sauvage qui peuple nos forêts et qui s’approche facilement des fermes. \n  \nUne soirée conviviale\nAprès avoir écouté et peut-être observé les cerfs\, la Ferme d’Argentin vous proposera une soupe de légumes\, accompagnée d’une saucisse\, suivies d’une part de tarte aux fruits\, pour passer une soirée conviviale qui sera peut-être toujours rythmée par le brame. \n\nInformations pratiques\nSur réservation uniquement.\nRenseignements au 03 89 22 19 19 ou par mail info@ferme-argentin.com.\nNombre de places limité. \nPrévoir une lampe de poche ou une lampe frontale\, une tenue chaude pour supporter la fraîcheur du soir et un plaid pour s’installer ou se couvrir. \n  \nTarifs :\nAdulte : 15€ \nEnfant jusqu’à 12 ans : 7.50€ \nRepas inclus\, boissons en supplément. \nAttention\, le cerf est un animal sauvage. La Ferme d’Argentin ne peut pas garantir qu’il s’exprimera ce soir-là. Ce sera une question de chance\, toutefois\, à cette période\, le brame est fréquemment entendu. \n  \nRéservations :\nVendredi 2 octobre à 18h30 :\n \nSamedi 3 octobre à 18h30 :
URL:https://ferme-argentin.com/event/evenement-a-lecoute-du-brame-du-cerf/
LOCATION:La Ferme d’Argentin
CATEGORIES:Evenements en cours
ATTACH;FMTTYPE=image/jpeg:https://ferme-argentin.com/wp-content/uploads/2023/01/deer-643340_960_720.jpg
ORGANIZER;CN="Ferme%20d%27Argentin":MAILTO:info@ferme-argentin.com
END:VEVENT
BEGIN:VEVENT
DTSTART;TZID=UTC:20261016T183000
DTEND;TZID=UTC:20261017T223000
DTSTAMP:20260423T165609
CREATED:20260108T164430Z
LAST-MODIFIED:20260206T143257Z
UID:4332-1792175400-1792276200@ferme-argentin.com
SUMMARY:Événement - Balade contée nocturne
DESCRIPTION:Une balade pour frissonner\nEn cette période de l’année\, le monde des esprits et le monde des hommes se rapprochent. Personne n’est à l’abri d’une rencontre avec des êtres étranges surgissant de l’obscurité. \nPromenez-vous\, la nuit tombée\, sur les chemins de Ferme d’Argentin\, pour frissonner avec des récits mêlant sorcières\, dames blanches\, loups et autres êtres surgis de l’autre monde. \n  \nUn repas chaud pour se remettre de ses émotions\nPour vous remettre de vos émotions\, vous pourrez ensuite vous retrouver autour d’une soupe accompagnée d’une saucisse et d’un dessert (possibilité de menu végétarien). \n  \nInformations pratiques\nPrévoir : une tenue chaude\, de bonnes chaussures et une lampe de poche/lampe frontale. \nDurée de la balade contée : environ 1h30. \nSur réservation uniquement.\nRenseignements au 03 89 22 19 19 ou par mail info@ferme-argentin.com.\nNombre de places limité. \n  \nTarifs :\nAdulte : 15€ \nEnfant jusqu’à 12 ans : 7.50€ \n  \nLa Ferme d’Argentin se garde la possibilité d’annuler l’événement si le nombre de participants minimum n’est pas atteint. \nAfin de permettre une bonne organisation\, nous vous demandons de respecter votre horaire de rendez-vous. Plusieurs départs sont prévus au cours de la même soirée !  \n  \nRéservations :\nVendredi 16 octobre à 18h30 :\n \nVendredi 16 octobre à 19h :\n \nVendredi 16 octobre à 19h30 :\n \nSamedi 17 octobre à 18h30 :\n \nSamedi 17 octobre à 19h :\n \nSamedi 17 octobre à 19h30 :
URL:https://ferme-argentin.com/event/evenement-balade-contee-nocturne/
LOCATION:La Ferme d’Argentin
CATEGORIES:Evenements en cours
ATTACH;FMTTYPE=image/jpeg:https://ferme-argentin.com/wp-content/uploads/2023/09/halloween-4585684-scaled.jpg
ORGANIZER;CN="Ferme%20d%27Argentin":MAILTO:info@ferme-argentin.com
END:VEVENT
BEGIN:VEVENT
DTSTART;TZID=UTC:20261017T100000
DTEND;TZID=UTC:20261101T180000
DTSTAMP:20260423T165609
CREATED:20260108T172428Z
LAST-MODIFIED:20260108T172428Z
UID:4718-1792231200-1793556000@ferme-argentin.com
SUMMARY:Programme d'animation : Sorcières et bottes de paille
DESCRIPTION:Pendant les vacances de la Toussaint\, c’est bien connu\, on aime se faire peur\, mais pas trop ! A la Ferme d’Argentin\, ce sera l’occasion de partir à la recherche des animaux mystérieux qui se terrent dans l’ombre\, de s’intéresser aux propriétés magiques des plantes\, de fabriquer un épouvantail ou bien encore d’en apprendre plus sur les courges. \nAu mois d’octobre\, nous sommes ouverts tous les jours de 10h à 17h30. \nProgramme des animations quotidiennes\n11h : Les ombres de la ferme\n  \n  \n13h30 : L’animal du jour\nLe mouton a-t-il toujours eu de la laine sur son dos ? Comment le poussin se développe-t-il à l’intérieur de l’œuf ? Qu’est-ce qu’un cochon laineux ? Le cheval a-t-il toujours été grand et fort ? Depuis quand retrouve-t-on des vaches dans les fermes ?\nQu’est-ce qu’une chèvre de Lorraine ?\nDécouvrez chaque jour un autre animal de la ferme : ses particularités\, son lien avec l’histoire de l‘agriculture… \n  \n14h15 : Herbes et sortilèges\n  \n  \n15h : L’épouvantail\, mode d’emploi\n  \n  \n15h45 : Courges et compagnie\n  \n  \n16h45 : Le conte\nEn famille\, suivez les péripéties et les aventures des animaux de la ferme à travers différents contes et supports pour raconter les histoires.
URL:https://ferme-argentin.com/event/programme-danimation-sorcieres-et-bottes-de-paille/
CATEGORIES:Evenements en cours
ATTACH;FMTTYPE=image/jpeg:https://ferme-argentin.com/wp-content/uploads/2026/01/4.2-EPOUVANTAIL-scaled.jpg
END:VEVENT
BEGIN:VEVENT
DTSTART;TZID=UTC:20261021T100000
DTEND;TZID=UTC:20261021T120000
DTSTAMP:20260423T165609
CREATED:20260108T170228Z
LAST-MODIFIED:20260206T145424Z
UID:4337-1792576800-1792584000@ferme-argentin.com
SUMMARY:Atelier famille - De la courge à la lanterne
DESCRIPTION:Transformez une simple courge en un monstre effrayant !\nAprès avoir découvert différentes variétés de courges\, ainsi que leur histoire\, les animateurs de la Ferme d’Argentin proposent de se munir de couteaux et de cuillères\, afin de tailler\, évider\, découper des courges\, en laissant libre cours à son imagination\, pour créer des lanternes originales ou effrayantes. \n  \nInformations pratiques :\nSur réservation uniquement.\nRenseignements au 03 89 22 19 19 ou par mail info@ferme-argentin.com.\nNombre de places limité. \nAtelier accessible aux enfants à partir de 7 ans.\nLes enfants doivent obligatoirement être accompagnés par un adulte participant à l’atelier. \n  \nTarifs avec entrée incluse :\nAdulte : 15€\nEnfant : 12€\nAbonné : 7€ \nEn plus de votre atelier\, vous pourrez en profiter pour visiter notre site\, et participer aux animations grand public proposées tout au long de la journée. \nRéservation :
URL:https://ferme-argentin.com/event/atelier-familles-de-la-courge-a-la-lanterne/
LOCATION:La Ferme d’Argentin
CATEGORIES:Evenements en cours
ATTACH;FMTTYPE=image/jpeg:https://ferme-argentin.com/wp-content/uploads/2023/09/ATELIER-DE-LA-COURGE-A-LA-LANTERNE-14-scaled.jpg
ORGANIZER;CN="Ferme%20d%27Argentin":MAILTO:info@ferme-argentin.com
END:VEVENT
BEGIN:VEVENT
DTSTART;TZID=UTC:20261028T100000
DTEND;TZID=UTC:20261028T120000
DTSTAMP:20260423T165609
CREATED:20260108T171218Z
LAST-MODIFIED:20260206T150042Z
UID:4339-1793181600-1793188800@ferme-argentin.com
SUMMARY:Atelier famille - De la courge à la lanterne
DESCRIPTION:Transformez une simple courge en un monstre effrayant !\nAprès avoir découvert différentes variétés de courges\, ainsi que leur histoire\, les animateurs de la Ferme d’Argentin proposent de se munir de couteaux et de cuillères\, afin de tailler\, évider\, découper des courges\, en laissant libre cours à son imagination\, pour créer des lanternes originales ou effrayantes. \n  \nInformations pratiques :\nSur réservation uniquement.\nRenseignements au 03 89 22 19 19 ou par mail info@ferme-argentin.com.\nNombre de places limité. \nAtelier accessible aux enfants à partir de 7 ans.\nLes enfants doivent obligatoirement être accompagnés par un adulte participant à l’atelier. \n  \nTarifs avec entrée incluse :\nAdulte : 15€\nEnfant : 12€\nAbonné : 7€ \nEn plus de votre atelier\, vous pourrez en profiter pour visiter notre site\, et participer aux animations grand public proposées tout au long de la journée. \n  \nRéservations :
URL:https://ferme-argentin.com/event/de-la-courge-a-la-lanterne-7/
LOCATION:La Ferme d’Argentin
CATEGORIES:Evenements en cours
ATTACH;FMTTYPE=image/jpeg:https://ferme-argentin.com/wp-content/uploads/2023/09/ATELIER-DE-LA-COURGE-A-LA-LANTERNE-14-scaled.jpg
ORGANIZER;CN="Ferme%20d%27Argentin":MAILTO:info@ferme-argentin.com
END:VEVENT
BEGIN:VEVENT
DTSTART;TZID=UTC:20261031T100000
DTEND;TZID=UTC:20261031T120000
DTSTAMP:20260423T165609
CREATED:20260108T174311Z
LAST-MODIFIED:20260108T174607Z
UID:4341-1793440800-1793448000@ferme-argentin.com
SUMMARY:Atelier famille - Nourrir les oiseaux en hiver
DESCRIPTION:Pourquoi nourrir les oiseaux en hiver ?\nDe nombreux oiseaux peuplent nos cours et nos jardins. L’hiver arrive et avec lui\, le froid\, le gel et la neige qui compliquent la vie des oiseaux. Les nourrir\, c’est leur apporter un petit coup de pouce pour qu’ils puissent mieux supporter cette saison. Mais attention\, pour bien les nourrir\, il y a quelques règles à connaître. \n  \nApprendre à fabriquer des aliments adaptés aux oiseaux\nCet atelier vous permettra d’appendre comment fabriquer en famille des aliments qui conviennent aux oiseaux en hiver et qui leur apportent l’énergie nécessaire pour se protéger efficacement du froid. \n  \nInformations pratiques :\nSur réservation uniquement.\nRenseignements au 03 89 22 19 19 ou par mail info@ferme-argentin.com \nA partir de 6 ans. Les enfants doivent obligatoirement être accompagnés par un adulte participant à l’atelier. \nTarifs avec entrée incluse:\nAdultes : 15€\nEnfants : 12€\nAtelier seul pour les abonnés : 7€ \n  \nRéservation :
URL:https://ferme-argentin.com/event/atelier-famille-nourrir-les-oiseaux-en-hiver/
CATEGORIES:Evenements en cours
ATTACH;FMTTYPE=image/jpeg:https://ferme-argentin.com/wp-content/uploads/2026/01/bird-8424336-scaled.jpg
END:VEVENT
END:VCALENDAR